Package: seqsetvis Version: 1.26.0 Command: /Library/Frameworks/R.framework/Resources/bin/R CMD build --keep-empty-dirs --no-resave-data seqsetvis StartedAt: 2025-02-03 22:17:49 -0500 (Mon, 03 Feb 2025) EndedAt: 2025-02-03 22:20:40 -0500 (Mon, 03 Feb 2025) EllapsedTime: 171.4 seconds RetCode: 0 Status: OK PackageFile: seqsetvis_1.26.0.tar.gz PackageFileSize: 2.062 MiB