Package: seqsetvis Version: 1.26.0 Command: /home/biocbuild/bbs-3.20-bioc/R/bin/R CMD build --keep-empty-dirs --no-resave-data --md5 seqsetvis StartedAt: 2025-02-10 19:10:49 -0500 (Mon, 10 Feb 2025) EndedAt: 2025-02-10 19:12:01 -0500 (Mon, 10 Feb 2025) EllapsedTime: 72.1 seconds RetCode: 0 Status: OK PackageFile: seqsetvis_1.26.0.tar.gz PackageFileSize: 2.064 MiB