Package: seqsetvis Version: 1.26.0 Command: /home/biocbuild/bbs-3.20-bioc/R/bin/R CMD check --install=check:seqsetvis.install-out.txt --library=/home/biocbuild/bbs-3.20-bioc/R/site-library --timings seqsetvis_1.26.0.tar.gz StartedAt: 2025-02-04 02:26:16 -0500 (Tue, 04 Feb 2025) EndedAt: 2025-02-04 02:35:55 -0500 (Tue, 04 Feb 2025) EllapsedTime: 578.6 seconds RetCode: 0 Status: OK CheckDir: seqsetvis.Rcheck Warnings: 0