Package: seqsetvis Version: 1.26.0 Command: rm -rf seqsetvis.buildbin-libdir && mkdir seqsetvis.buildbin-libdir && F:\biocbuild\bbs-3.20-bioc\R\bin\R.exe CMD INSTALL --build --library=seqsetvis.buildbin-libdir seqsetvis_1.26.0.tar.gz StartedAt: 2025-01-31 09:36:02 -0500 (Fri, 31 Jan 2025) EndedAt: 2025-01-31 09:38:42 -0500 (Fri, 31 Jan 2025) EllapsedTime: 160.4 seconds RetCode: 0 Status: OK PackageFile: seqsetvis_1.26.0.zip PackageFileSize: 1.548 MiB