Package: seqsetvis Version: 1.26.0 Command: chmod a+r seqsetvis -R && F:\biocbuild\bbs-3.20-bioc\R\bin\R.exe CMD build --keep-empty-dirs --no-resave-data seqsetvis StartedAt: 2025-01-30 21:50:12 -0500 (Thu, 30 Jan 2025) EndedAt: 2025-01-30 21:53:08 -0500 (Thu, 30 Jan 2025) EllapsedTime: 176.1 seconds RetCode: 0 Status: OK PackageFile: seqsetvis_1.26.0.tar.gz PackageFileSize: 1.2 MiB