Package: seqsetvis Version: 1.26.0 Command: /home/biocbuild/R/R/bin/R CMD build --keep-empty-dirs --no-resave-data seqsetvis StartedAt: 2025-02-04 02:57:10 -0000 (Tue, 04 Feb 2025) EndedAt: 2025-02-04 02:59:18 -0000 (Tue, 04 Feb 2025) EllapsedTime: 128.2 seconds RetCode: 0 Status: OK PackageFile: seqsetvis_1.26.0.tar.gz PackageFileSize: 1.392 MiB