Package: seqsetvis Version: 1.26.0 Command: /home/biocbuild/R/R/bin/R CMD check --install=check:seqsetvis.install-out.txt --library=/home/biocbuild/R/R/site-library --no-vignettes --timings seqsetvis_1.26.0.tar.gz StartedAt: 2025-02-11 10:22:16 -0000 (Tue, 11 Feb 2025) EndedAt: 2025-02-11 10:34:44 -0000 (Tue, 11 Feb 2025) EllapsedTime: 748.1 seconds RetCode: 0 Status: OK CheckDir: seqsetvis.Rcheck Warnings: 0