Package: seqsetvis Version: 1.26.0 Command: /home/biocbuild/R/R/bin/R CMD INSTALL seqsetvis StartedAt: 2025-02-10 20:33:55 -0000 (Mon, 10 Feb 2025) EndedAt: 2025-02-10 20:34:39 -0000 (Mon, 10 Feb 2025) EllapsedTime: 44.8 seconds RetCode: 0 Status: OK