Package: sesame Version: 1.24.0 Command: /Library/Frameworks/R.framework/Resources/bin/R CMD build --keep-empty-dirs --no-resave-data sesame StartedAt: 2025-02-11 08:04:57 -0500 (Tue, 11 Feb 2025) EndedAt: 2025-02-11 08:13:35 -0500 (Tue, 11 Feb 2025) EllapsedTime: 518.5 seconds RetCode: 1 Status: ERROR PackageFile: None PackageFileSize: NA