Package: sesame Version: 1.24.0 Command: /Library/Frameworks/R.framework/Resources/bin/R CMD INSTALL sesame StartedAt: 2025-02-10 15:51:15 -0500 (Mon, 10 Feb 2025) EndedAt: 2025-02-10 15:51:57 -0500 (Mon, 10 Feb 2025) EllapsedTime: 41.5 seconds RetCode: 0 Status: OK