Package: sesame Version: 1.24.0 Command: chmod a+r sesame -R && F:\biocbuild\bbs-3.20-bioc\R\bin\R.exe CMD build --keep-empty-dirs --no-resave-data sesame StartedAt: 2025-02-03 22:07:11 -0500 (Mon, 03 Feb 2025) EndedAt: 2025-02-03 22:15:22 -0500 (Mon, 03 Feb 2025) EllapsedTime: 491.1 seconds RetCode: 0 Status: OK PackageFile: sesame_1.24.0.tar.gz PackageFileSize: 19.14 MiB