Package: sesame Version: 1.24.0 Command: /home/biocbuild/R/R/bin/R CMD build --keep-empty-dirs --no-resave-data sesame StartedAt: 2025-02-04 02:57:46 -0000 (Tue, 04 Feb 2025) EndedAt: 2025-02-04 03:06:03 -0000 (Tue, 04 Feb 2025) EllapsedTime: 496.8 seconds RetCode: 0 Status: OK PackageFile: sesame_1.24.0.tar.gz PackageFileSize: 20.16 MiB