Package: sesame Version: 1.24.0 Command: /home/biocbuild/R/R/bin/R CMD INSTALL sesame StartedAt: 2025-02-03 20:40:09 -0000 (Mon, 03 Feb 2025) EndedAt: 2025-02-03 20:40:55 -0000 (Mon, 03 Feb 2025) EllapsedTime: 45.5 seconds RetCode: 0 Status: OK