Package: sevenC Version: 1.26.0 Command: rm -rf sevenC.buildbin-libdir && mkdir sevenC.buildbin-libdir && /Users/biocbuild/BBS/utils/build-universal.sh sevenC_1.26.0.tar.gz /Library/Frameworks/R.framework/Resources/bin/R sevenC.buildbin-libdir StartedAt: 2025-01-31 13:42:15 -0500 (Fri, 31 Jan 2025) EndedAt: 2025-01-31 13:43:07 -0500 (Fri, 31 Jan 2025) EllapsedTime: 51.8 seconds RetCode: 0 Status: OK PackageFile: sevenC_1.26.0.tgz PackageFileSize: 2.042 MiB