Package: sevenC Version: 1.26.0 Command: /Library/Frameworks/R.framework/Resources/bin/R CMD check --install=check:sevenC.install-out.txt --library=/Library/Frameworks/R.framework/Resources/library --no-vignettes --timings sevenC_1.26.0.tar.gz StartedAt: 2025-02-11 10:23:45 -0500 (Tue, 11 Feb 2025) EndedAt: 2025-02-11 10:30:44 -0500 (Tue, 11 Feb 2025) EllapsedTime: 418.5 seconds RetCode: 0 Status: OK CheckDir: sevenC.Rcheck Warnings: 0