Package: sevenC Version: 1.26.0 Command: /home/biocbuild/R/R/bin/R CMD INSTALL sevenC StartedAt: 2025-02-10 20:26:34 -0000 (Mon, 10 Feb 2025) EndedAt: 2025-02-10 20:27:02 -0000 (Mon, 10 Feb 2025) EllapsedTime: 28.1 seconds RetCode: 0 Status: OK