Package: sevenbridges Version: 1.36.0 Command: rm -rf sevenbridges.buildbin-libdir && mkdir sevenbridges.buildbin-libdir && /Users/biocbuild/BBS/utils/build-universal.sh sevenbridges_1.36.0.tar.gz /Library/Frameworks/R.framework/Resources/bin/R sevenbridges.buildbin-libdir StartedAt: 2025-01-31 13:42:14 -0500 (Fri, 31 Jan 2025) EndedAt: 2025-01-31 13:43:26 -0500 (Fri, 31 Jan 2025) EllapsedTime: 72.2 seconds RetCode: 0 Status: OK PackageFile: sevenbridges_1.36.0.tgz PackageFileSize: 5.919 MiB