Package: sevenbridges Version: 1.36.0 Command: /home/biocbuild/R/R/bin/R CMD build --keep-empty-dirs --no-resave-data sevenbridges StartedAt: 2025-01-31 02:42:07 -0000 (Fri, 31 Jan 2025) EndedAt: 2025-01-31 02:44:24 -0000 (Fri, 31 Jan 2025) EllapsedTime: 137.2 seconds RetCode: 0 Status: OK PackageFile: sevenbridges_1.36.0.tar.gz PackageFileSize: 5.059 MiB