Package: sevenbridges Version: 1.36.0 Command: /home/biocbuild/R/R/bin/R CMD INSTALL sevenbridges StartedAt: 2025-02-03 20:27:59 -0000 (Mon, 03 Feb 2025) EndedAt: 2025-02-03 20:28:36 -0000 (Mon, 03 Feb 2025) EllapsedTime: 37.2 seconds RetCode: 0 Status: OK