Package: shiny.gosling Version: 1.2.0 Command: /home/biocbuild/R/R/bin/R CMD build --keep-empty-dirs --no-resave-data shiny.gosling StartedAt: 2024-11-20 03:57:36 -0000 (Wed, 20 Nov 2024) EndedAt: 2024-11-20 03:58:17 -0000 (Wed, 20 Nov 2024) EllapsedTime: 41.1 seconds RetCode: 0 Status: OK PackageFile: shiny.gosling_1.2.0.tar.gz PackageFileSize: 1.718 MiB