Package: shiny.gosling Version: 1.2.0 Command: /home/biocbuild/bbs-3.20-bioc/R/bin/R CMD INSTALL shiny.gosling StartedAt: 2025-01-30 15:32:33 -0500 (Thu, 30 Jan 2025) EndedAt: 2025-01-30 15:32:36 -0500 (Thu, 30 Jan 2025) EllapsedTime: 3.0 seconds RetCode: 0 Status: OK