Package: shiny.gosling Version: 1.2.0 Command: /home/biocbuild/R/R/bin/R CMD check --install=check:shiny.gosling.install-out.txt --library=/home/biocbuild/R/R/site-library --no-vignettes --timings shiny.gosling_1.2.0.tar.gz StartedAt: 2025-02-04 11:04:06 -0000 (Tue, 04 Feb 2025) EndedAt: 2025-02-04 11:04:35 -0000 (Tue, 04 Feb 2025) EllapsedTime: 29.1 seconds RetCode: 0 Status: OK CheckDir: shiny.gosling.Rcheck Warnings: 0