Package: shiny.gosling Version: 1.2.0 Command: /home/biocbuild/R/R/bin/R CMD INSTALL shiny.gosling StartedAt: 2025-02-03 20:55:14 -0000 (Mon, 03 Feb 2025) EndedAt: 2025-02-03 20:55:22 -0000 (Mon, 03 Feb 2025) EllapsedTime: 8.4 seconds RetCode: 0 Status: OK