Package: sigFeature Version: 1.24.0 Command: rm -rf sigFeature.buildbin-libdir && mkdir sigFeature.buildbin-libdir && /Users/biocbuild/BBS/utils/build-universal.sh sigFeature_1.24.0.tar.gz /Library/Frameworks/R.framework/Resources/bin/R sigFeature.buildbin-libdir StartedAt: 2025-02-05 17:49:43 -0500 (Wed, 05 Feb 2025) EndedAt: 2025-02-05 17:50:15 -0500 (Wed, 05 Feb 2025) EllapsedTime: 32.6 seconds RetCode: 0 Status: OK PackageFile: sigFeature_1.24.0.tgz PackageFileSize: 502.8 KiB