Package: sigFeature Version: 1.24.0 Command: /Library/Frameworks/R.framework/Resources/bin/R CMD build --keep-empty-dirs --no-resave-data sigFeature StartedAt: 2025-02-04 08:15:28 -0500 (Tue, 04 Feb 2025) EndedAt: 2025-02-04 08:16:18 -0500 (Tue, 04 Feb 2025) EllapsedTime: 49.5 seconds RetCode: 0 Status: OK PackageFile: sigFeature_1.24.0.tar.gz PackageFileSize: 370.7 KiB