Package: sigFeature Version: 1.24.0 Command: /Library/Frameworks/R.framework/Resources/bin/R CMD build --keep-empty-dirs --no-resave-data sigFeature StartedAt: 2025-02-03 22:21:10 -0500 (Mon, 03 Feb 2025) EndedAt: 2025-02-03 22:22:33 -0500 (Mon, 03 Feb 2025) EllapsedTime: 82.5 seconds RetCode: 0 Status: OK PackageFile: sigFeature_1.24.0.tar.gz PackageFileSize: 369.8 KiB