Package: signifinder Version: 1.8.0 Command: rm -rf signifinder.buildbin-libdir && mkdir signifinder.buildbin-libdir && /Users/biocbuild/BBS/utils/build-universal.sh signifinder_1.8.0.tar.gz /Library/Frameworks/R.framework/Resources/bin/R signifinder.buildbin-libdir StartedAt: 2025-02-01 16:55:10 -0500 (Sat, 01 Feb 2025) EndedAt: 2025-02-01 16:56:24 -0500 (Sat, 01 Feb 2025) EllapsedTime: 74.0 seconds RetCode: 0 Status: OK PackageFile: signifinder_1.8.0.tgz PackageFileSize: 7.612 MiB