Package: signifinder Version: 1.8.0 Command: /Library/Frameworks/R.framework/Resources/bin/R CMD check --install=check:signifinder.install-out.txt --library=/Library/Frameworks/R.framework/Resources/library --no-vignettes --timings signifinder_1.8.0.tar.gz StartedAt: 2025-02-05 10:15:49 -0500 (Wed, 05 Feb 2025) EndedAt: 2025-02-05 10:28:49 -0500 (Wed, 05 Feb 2025) EllapsedTime: 779.8 seconds RetCode: 1 Status: ERROR CheckDir: signifinder.Rcheck Warnings: NA