Package: signifinder Version: 1.8.0 Command: /Library/Frameworks/R.framework/Resources/bin/R CMD check --install=check:signifinder.install-out.txt --library=/Library/Frameworks/R.framework/Resources/library --no-vignettes --timings signifinder_1.8.0.tar.gz StartedAt: 2025-01-31 10:08:52 -0500 (Fri, 31 Jan 2025) EndedAt: 2025-01-31 10:31:26 -0500 (Fri, 31 Jan 2025) EllapsedTime: 1354.5 seconds RetCode: 1 Status: ERROR CheckDir: signifinder.Rcheck Warnings: NA