Package: signifinder Version: 1.8.0 Command: rm -rf signifinder.buildbin-libdir && mkdir signifinder.buildbin-libdir && F:\biocbuild\bbs-3.20-bioc\R\bin\R.exe CMD INSTALL --build --library=signifinder.buildbin-libdir signifinder_1.8.0.tar.gz StartedAt: 2025-02-04 09:31:56 -0500 (Tue, 04 Feb 2025) EndedAt: 2025-02-04 09:33:56 -0500 (Tue, 04 Feb 2025) EllapsedTime: 120.4 seconds RetCode: 0 Status: OK PackageFile: signifinder_1.8.0.zip PackageFileSize: 5.882 MiB