Package: signifinder Version: 1.8.0 Command: /home/biocbuild/R/R/bin/R CMD check --install=check:signifinder.install-out.txt --library=/home/biocbuild/R/R/site-library --no-vignettes --timings signifinder_1.8.0.tar.gz StartedAt: 2025-02-04 11:06:46 -0000 (Tue, 04 Feb 2025) EndedAt: 2025-02-04 11:20:11 -0000 (Tue, 04 Feb 2025) EllapsedTime: 805.1 seconds RetCode: 1 Status: ERROR CheckDir: signifinder.Rcheck Warnings: NA