Package: signifinder Version: 1.8.0 Command: /home/biocbuild/bbs-3.20-bioc/R/bin/R CMD check --install=check:signifinder.install-out.txt --library=/home/biocbuild/bbs-3.20-bioc/R/site-library --timings signifinder_1.8.0.tar.gz StartedAt: 2024-11-20 09:44:51 -0500 (Wed, 20 Nov 2024) EndedAt: 2024-11-20 09:54:49 -0500 (Wed, 20 Nov 2024) EllapsedTime: 597.7 seconds RetCode: 1 Status: ERROR CheckDir: signifinder.Rcheck Warnings: NA