Package: simPIC Version: 1.2.0 Command: /Library/Frameworks/R.framework/Resources/bin/R CMD check --install=check:simPIC.install-out.txt --library=/Library/Frameworks/R.framework/Resources/library --no-vignettes --timings simPIC_1.2.0.tar.gz StartedAt: 2025-02-05 10:24:55 -0500 (Wed, 05 Feb 2025) EndedAt: 2025-02-05 10:28:45 -0500 (Wed, 05 Feb 2025) EllapsedTime: 230.2 seconds RetCode: 0 Status: OK CheckDir: simPIC.Rcheck Warnings: 0