Package: simPIC Version: 1.2.0 Command: rm -rf simPIC.buildbin-libdir && mkdir simPIC.buildbin-libdir && /Users/biocbuild/BBS/utils/build-universal.sh simPIC_1.2.0.tar.gz /Library/Frameworks/R.framework/Resources/bin/R simPIC.buildbin-libdir StartedAt: 2025-01-31 13:43:34 -0500 (Fri, 31 Jan 2025) EndedAt: 2025-01-31 13:44:27 -0500 (Fri, 31 Jan 2025) EllapsedTime: 52.9 seconds RetCode: 0 Status: OK PackageFile: simPIC_1.2.0.tgz PackageFileSize: 2.376 MiB