Package: simPIC Version: 1.2.0 Command: rm -rf simPIC.buildbin-libdir && mkdir simPIC.buildbin-libdir && F:\biocbuild\bbs-3.20-bioc\R\bin\R.exe CMD INSTALL --build --library=simPIC.buildbin-libdir simPIC_1.2.0.tar.gz StartedAt: 2025-02-04 09:32:36 -0500 (Tue, 04 Feb 2025) EndedAt: 2025-02-04 09:33:11 -0500 (Tue, 04 Feb 2025) EllapsedTime: 35.2 seconds RetCode: 0 Status: OK PackageFile: simPIC_1.2.0.zip PackageFileSize: 2.329 MiB