Package: simPIC Version: 1.2.0 Command: chmod a+r simPIC -R && F:\biocbuild\bbs-3.20-bioc\R\bin\R.exe CMD build --keep-empty-dirs --no-resave-data simPIC StartedAt: 2025-02-10 22:05:56 -0500 (Mon, 10 Feb 2025) EndedAt: 2025-02-10 22:07:15 -0500 (Mon, 10 Feb 2025) EllapsedTime: 79.3 seconds RetCode: 0 Status: OK PackageFile: simPIC_1.2.0.tar.gz PackageFileSize: 1.104 MiB