Package: simPIC Version: 1.2.0 Command: /home/biocbuild/R/R/bin/R CMD INSTALL simPIC StartedAt: 2025-02-03 21:05:51 -0000 (Mon, 03 Feb 2025) EndedAt: 2025-02-03 21:06:20 -0000 (Mon, 03 Feb 2025) EllapsedTime: 29.1 seconds RetCode: 0 Status: OK