Package: similaRpeak Version: 1.38.0 Command: /Library/Frameworks/R.framework/Resources/bin/R CMD check --install=check:similaRpeak.install-out.txt --library=/Library/Frameworks/R.framework/Resources/library --no-vignettes --timings similaRpeak_1.38.0.tar.gz StartedAt: 2025-02-05 10:21:20 -0500 (Wed, 05 Feb 2025) EndedAt: 2025-02-05 10:21:47 -0500 (Wed, 05 Feb 2025) EllapsedTime: 26.7 seconds RetCode: 0 Status: OK CheckDir: similaRpeak.Rcheck Warnings: 0