Package: similaRpeak Version: 1.38.0 Command: rm -rf similaRpeak.buildbin-libdir && mkdir similaRpeak.buildbin-libdir && F:\biocbuild\bbs-3.20-bioc\R\bin\R.exe CMD INSTALL --build --library=similaRpeak.buildbin-libdir similaRpeak_1.38.0.tar.gz StartedAt: 2025-02-04 09:32:26 -0500 (Tue, 04 Feb 2025) EndedAt: 2025-02-04 09:32:50 -0500 (Tue, 04 Feb 2025) EllapsedTime: 24.1 seconds RetCode: 0 Status: OK PackageFile: similaRpeak_1.38.0.zip PackageFileSize: 1.073 MiB