Package: simona Version: 1.4.0 Command: rm -rf simona.buildbin-libdir && mkdir simona.buildbin-libdir && /Users/biocbuild/BBS/utils/build-universal.sh simona_1.4.0.tar.gz /Library/Frameworks/R.framework/Resources/bin/R simona.buildbin-libdir StartedAt: 2025-02-05 17:50:46 -0500 (Wed, 05 Feb 2025) EndedAt: 2025-02-05 17:52:00 -0500 (Wed, 05 Feb 2025) EllapsedTime: 74.6 seconds RetCode: 0 Status: OK PackageFile: simona_1.4.0.tgz PackageFileSize: 1.912 MiB