Package: simona Version: 1.4.0 Command: /Library/Frameworks/R.framework/Resources/bin/R CMD build --keep-empty-dirs --no-resave-data simona StartedAt: 2025-02-03 22:23:14 -0500 (Mon, 03 Feb 2025) EndedAt: 2025-02-03 22:25:41 -0500 (Mon, 03 Feb 2025) EllapsedTime: 147.0 seconds RetCode: 0 Status: OK PackageFile: simona_1.4.0.tar.gz PackageFileSize: 944.2 KiB