Package: simona Version: 1.4.0 Command: rm -rf simona.buildbin-libdir && mkdir simona.buildbin-libdir && F:\biocbuild\bbs-3.20-bioc\R\bin\R.exe CMD INSTALL --build --library=simona.buildbin-libdir simona_1.4.0.tar.gz StartedAt: 2025-01-31 09:38:46 -0500 (Fri, 31 Jan 2025) EndedAt: 2025-01-31 09:40:40 -0500 (Fri, 31 Jan 2025) EllapsedTime: 114.1 seconds RetCode: 0 Status: OK PackageFile: simona_1.4.0.zip PackageFileSize: 2.234 MiB