Package: simona Version: 1.4.0 Command: F:\biocbuild\bbs-3.20-bioc\R\bin\R.exe CMD INSTALL simona StartedAt: 2025-01-30 15:52:30 -0500 (Thu, 30 Jan 2025) EndedAt: 2025-01-30 15:54:35 -0500 (Thu, 30 Jan 2025) EllapsedTime: 124.5 seconds RetCode: 0 Status: OK