Package: simona Version: 1.4.0 Command: /home/biocbuild/R/R/bin/R CMD build --keep-empty-dirs --no-resave-data simona StartedAt: 2025-02-04 03:01:59 -0000 (Tue, 04 Feb 2025) EndedAt: 2025-02-04 03:04:18 -0000 (Tue, 04 Feb 2025) EllapsedTime: 139.2 seconds RetCode: 0 Status: OK PackageFile: simona_1.4.0.tar.gz PackageFileSize: 944.7 KiB