Package: simona Version: 1.4.0 Command: /home/biocbuild/R/R/bin/R CMD INSTALL simona StartedAt: 2025-02-10 20:44:40 -0000 (Mon, 10 Feb 2025) EndedAt: 2025-02-10 20:46:34 -0000 (Mon, 10 Feb 2025) EllapsedTime: 114.2 seconds RetCode: 0 Status: OK