Package: simpleSeg Version: 1.8.0 Command: /Library/Frameworks/R.framework/Resources/bin/R CMD INSTALL simpleSeg StartedAt: 2025-02-10 17:13:11 -0500 (Mon, 10 Feb 2025) EndedAt: 2025-02-10 17:14:05 -0500 (Mon, 10 Feb 2025) EllapsedTime: 54.2 seconds RetCode: 0 Status: OK