Package: simpleSeg Version: 1.8.0 Command: /Library/Frameworks/R.framework/Resources/bin/R CMD build --keep-empty-dirs --no-resave-data simpleSeg StartedAt: 2025-02-03 22:23:22 -0500 (Mon, 03 Feb 2025) EndedAt: 2025-02-03 22:29:29 -0500 (Mon, 03 Feb 2025) EllapsedTime: 367.0 seconds RetCode: 0 Status: OK PackageFile: simpleSeg_1.8.0.tar.gz PackageFileSize: 4.775 MiB