Package: simpleSeg Version: 1.8.0 Command: /home/biocbuild/bbs-3.20-bioc/R/bin/R CMD check --install=check:simpleSeg.install-out.txt --library=/home/biocbuild/bbs-3.20-bioc/R/site-library --timings simpleSeg_1.8.0.tar.gz StartedAt: 2025-02-11 02:23:29 -0500 (Tue, 11 Feb 2025) EndedAt: 2025-02-11 02:31:43 -0500 (Tue, 11 Feb 2025) EllapsedTime: 494.4 seconds RetCode: 0 Status: OK CheckDir: simpleSeg.Rcheck Warnings: 0