Package: simpleSeg Version: 1.8.0 Command: rm -rf simpleSeg.buildbin-libdir && mkdir simpleSeg.buildbin-libdir && F:\biocbuild\bbs-3.20-bioc\R\bin\R.exe CMD INSTALL --build --library=simpleSeg.buildbin-libdir simpleSeg_1.8.0.tar.gz StartedAt: 2025-02-04 09:32:38 -0500 (Tue, 04 Feb 2025) EndedAt: 2025-02-04 09:33:36 -0500 (Tue, 04 Feb 2025) EllapsedTime: 57.7 seconds RetCode: 0 Status: OK PackageFile: simpleSeg_1.8.0.zip PackageFileSize: 4.413 MiB