Package: simpleSeg Version: 1.8.0 Command: /home/biocbuild/R/R/bin/R CMD build --keep-empty-dirs --no-resave-data simpleSeg StartedAt: 2025-02-11 02:39:04 -0000 (Tue, 11 Feb 2025) EndedAt: 2025-02-11 02:39:05 -0000 (Tue, 11 Feb 2025) EllapsedTime: 1.0 seconds RetCode: 1 Status: ERROR PackageFile: None PackageFileSize: NA